BEGIN:VCALENDAR
VERSION:2.0
PRODID:-//Angler's Covey - ECPv6.3.1//NONSGML v1.0//EN
CALSCALE:GREGORIAN
METHOD:PUBLISH
X-WR-CALNAME:Angler's Covey
X-ORIGINAL-URL:https://anglerscovey.com
X-WR-CALDESC:Events for Angler's Covey
REFRESH-INTERVAL;VALUE=DURATION:PT1H
X-Robots-Tag:noindex
X-PUBLISHED-TTL:PT1H
BEGIN:VTIMEZONE
TZID:America/Denver
BEGIN:DAYLIGHT
TZOFFSETFROM:-0700
TZOFFSETTO:-0600
TZNAME:MDT
DTSTART:20260308T090000
END:DAYLIGHT
BEGIN:STANDARD
TZOFFSETFROM:-0600
TZOFFSETTO:-0700
TZNAME:MST
DTSTART:20261101T080000
END:STANDARD
END:VTIMEZONE
BEGIN:VEVENT
DTSTART;TZID=America/Denver:20260424T180000
DTEND;TZID=America/Denver:20260424T210000
DTSTAMP:20260424T105715
CREATED:20250107T220140Z
LAST-MODIFIED:20260216T200546Z
UID:10001710-1777053600-1777064400@anglerscovey.com
SUMMARY:201 Entomology\, Fly Selection and Rigging with Juan Ramirez and Tyler Boroff- Caddis
DESCRIPTION:In this new series of classes\, students will learn the relation to the bugs and the fly patterns that imitate them. How to rig for them and also how to effectively fish them. These classes are designed to bridge the gap between fly patterns and the real thing. This class is taught by professional Fly tyers and Guides Juan Ramirez and Tyler Boroff. These two bring extensive knowledge to the table and will offer a unique view into all of the bugs that inhabit our area and much of the west. The instructors will also teach when\, why and how to fish these patterns. \nThis class series will offer 6 classes. Each class date will cover a different entomology subject. Sign up for one or all 6 classes! \nApril 24th- Caddis\n• A talk about the lifecycle of Caddis.\n• Break down the lifecycle and showing what flies we think match the real insect.\n• On hand conversation on how to fish the different stages of the bugs lifecycle along with rigging. \nEach class is $100 per person\, or sign up for all 6 for $550.00! Every student that signs up for all 6 classes will be entered to win a custom fly box with patterns tied by both Juan Ramirez and Tyler Boroff. \n(If youd like to sign up for the classes a la carte\, just pick the pertinent date on the calendar ) \nSpots are extremely limited!!
URL:https://anglerscovey.com/event/201-entomology-fly-selection-and-rigging-with-juan-ramirez-and-tyler-boroff-caddis/2026-04-24/
LOCATION:Angler’s Covey\, 295 21st Street\, Colorado Springs\, Colorado\, 80904\, United States
ATTACH;FMTTYPE=image/png:https://anglerscovey.com/wp-content/uploads/2024/05/7.png
ORGANIZER;CN="Jon Easdon":MAILTO:services@anglerscovey.com
END:VEVENT
END:VCALENDAR